BEGIN:VCALENDAR
METHOD:PUBLISH
VERSION:2.0
X-WR-CALNAME:columbiahalle_2027-02-08_twodoorcinemaclub
PRODID:-//hacksw/handcal//NONSGML v1.0//EN
BEGIN:VEVENT
UID:9746@Columbiahalle
DTSTAMP:20260421T123324Z
DTSTART:20270208T190000Z
DTEND:20270208T230000Z
SUMMARY:Two Door Cinema Club\, 15th Anniversary Tour\, Support: The Royston Club
DESCRIPTION:VVK:Fr. 24.04. - 10:00
LOCATION:Columbiahalle\, Columbiadamm 13-21\, 10965 Berlin
GEO:52.4845171;13.3905217
URL;VALUE=URI:http://www.columbiahalle.berlin/de#event_9746
END:VEVENT
END:VCALENDAR